BEGIN:VCALENDAR
VERSION:2.0
PRODID:-//SOCIÉTÉ LUXEMBOURGEOISE DES PLAIES ET CICATRISATION - ECPv5.0.3.1//NONSGML v1.0//EN
CALSCALE:GREGORIAN
METHOD:PUBLISH
X-WR-CALNAME:SOCIÉTÉ LUXEMBOURGEOISE DES PLAIES ET CICATRISATION
X-ORIGINAL-URL:https://slpc.lu
X-WR-CALDESC:Évènements pour SOCIÉTÉ LUXEMBOURGEOISE DES PLAIES ET CICATRISATION
BEGIN:VTIMEZONE
TZID:Europe/Paris
BEGIN:DAYLIGHT
TZOFFSETFROM:+0100
TZOFFSETTO:+0200
TZNAME:CEST
DTSTART:20190331T010000
END:DAYLIGHT
BEGIN:STANDARD
TZOFFSETFROM:+0200
TZOFFSETTO:+0100
TZNAME:CET
DTSTART:20191027T010000
END:STANDARD
END:VTIMEZONE
BEGIN:VEVENT
DTSTART;TZID=Europe/Paris:20190625T190000
DTEND;TZID=Europe/Paris:20190625T210000
DTSTAMP:20200421T234948
CREATED:20190328T185228Z
LAST-MODIFIED:20190517T131800Z
UID:706-1561489200-1561496400@slpc.lu
SUMMARY:Séance Académique "Plaies et Toxicomanie" Dr Hélène MARTIN Dermatologue\, CHR Metz Thionville.
DESCRIPTION:
URL:https://slpc.lu/event/sa-plaies-et-toxicomanie/
LOCATION:REHAZENTER\, 1\, rue André Vésale\, Luxembourg\, L-2674\, Luxembourg
CATEGORIES:Soirée SLPC
ATTACH;FMTTYPE=image/jpeg:https://slpc.lu/wp-content/uploads/2019/05/Save-the-date-AG-2019-web2.jpg
ORGANIZER;CN="Soci%C3%A9t%C3%A9%20Luxembourgeoise%20des%20Plaies%20et%20Cicatrisations":MAILTO:secretariat@slpc.lu
END:VEVENT
END:VCALENDAR