BEGIN:VCALENDAR
VERSION:2.0
PRODID:-//SOCIÉTÉ LUXEMBOURGEOISE DES PLAIES ET CICATRISATION - ECPv4.9.12//NONSGML v1.0//EN
CALSCALE:GREGORIAN
METHOD:PUBLISH
X-WR-CALNAME:SOCIÉTÉ LUXEMBOURGEOISE DES PLAIES ET CICATRISATION
X-ORIGINAL-URL:https://slpc.lu
X-WR-CALDESC:Évènements pour SOCIÉTÉ LUXEMBOURGEOISE DES PLAIES ET CICATRISATION
BEGIN:VTIMEZONE
TZID:Europe/Paris
BEGIN:DAYLIGHT
TZOFFSETFROM:+0100
TZOFFSETTO:+0200
TZNAME:CEST
DTSTART:20190331T010000
END:DAYLIGHT
BEGIN:STANDARD
TZOFFSETFROM:+0200
TZOFFSETTO:+0100
TZNAME:CET
DTSTART:20191027T010000
END:STANDARD
END:VTIMEZONE
BEGIN:VEVENT
DTSTART;VALUE=DATE:20191210
DTEND;VALUE=DATE:20191211
DTSTAMP:20200122T141503
CREATED:20191003T151621Z
LAST-MODIFIED:20191015T182618Z
UID:950-1575936000-1576022399@slpc.lu
SUMMARY:7e Journée de la SLPC "Les plaies complexes"
DESCRIPTION:
URL:https://slpc.lu/event/7e-journee-de-la-slpc-les-plaies-complexes/
LOCATION:Hôtel Novotel Luxembourg Kirchberg\, 6 rue Fort Niedergrünewald Quartier Européen Nord Plateau de Kirchberg\, Luxembourg\, 2226\, Luxembourg
CATEGORIES:Journée SLPC
ATTACH;FMTTYPE=image/jpeg:https://slpc.lu/wp-content/uploads/2019/10/annonce-7e-journée-2019-site-v3.jpg
ORGANIZER;CN="Soci%C3%A9t%C3%A9%20Luxembourgeoise%20des%20Plaies%20et%20Cicatrisations":MAILTO:secretariat@slpc.lu
END:VEVENT
END:VCALENDAR<!--Not allowed-->